BEGIN:VCALENDAR
VERSION:2.0
PRODID:-//wp-events-plugin.com//7.2.3.1//EN
BEGIN:VEVENT
UID:66@zsport-skloka.si
DTSTART;TZID=Europe/Ljubljana;VALUE=DATE:20260213
DTEND;TZID=Europe/Ljubljana;VALUE=DATE:20260216
DTSTAMP:20260121T072046Z
URL:https://www.zsport-skloka.si/dogodki/51-pokal-loka-2026/
SUMMARY:51. Pokal Loka 2026
DESCRIPTION:Program prireditve 2026\nPetek\, 13. februar 2026\n\n 	Prihod r
 eprezentanc- Škofja Loka\n 	Ogled smučišča - Stari vrh\n 	16.00 Sesta
 nek vodij ekip - online (Zoom)\n\nSobota\, 14. februar 2026\n\n 	9.30 Vele
 slalom - Stari vrh\n 	17.00 Sestanek vodij ekip (online - Zoom)\n 	18.30 
 Razglasitev rezultatov - Trg pod gradom\n\nNedelja\, 15. februar 2026\n\n
  	9.30 Slalom Stari vrh\n 	po tekmovanju - Razglasitev rezultatov 51. Pok
 ala Loka Stari vrh\n
ATTACH;FMTTYPE=image/jpeg:https://www.zsport-skloka.si/wp-content/uploads/
 2023/12/smucanje-pokal-loka-2022-ppml-6450-2000.jpg
CATEGORIES:smučanje
END:VEVENT
BEGIN:VTIMEZONE
TZID:Europe/Ljubljana
X-LIC-LOCATION:Europe/Ljubljana
BEGIN:STANDARD
DTSTART:20251026T020000
TZOFFSETFROM:+0200
TZOFFSETTO:+0100
TZNAME:CET
END:STANDARD
END:VTIMEZONE
END:VCALENDAR