BEGIN:VCALENDAR
VERSION:2.0
PRODID:-//wp-events-plugin.com//7.2.3.1//EN
BEGIN:VEVENT
UID:70@zsport-skloka.si
DTSTART:20251115T160000Z
DTEND:20260530T173000Z
DTSTAMP:20260121T072030Z
URL:https://www.zsport-skloka.si/dogodki/druzinska-rekreacija/
SUMMARY:Družinska rekreacija
DESCRIPTION:
ATTACH;FMTTYPE=image/jpeg:https://www.zsport-skloka.si/wp-content/uploads/
 2025/11/Druzinska-rekreacija-e1763015236621.jpg
CATEGORIES:rekreacija
LOCATION:OŠ Cvetko Golar\, Frankovo naselje 51\, Škofja Loka\, Škofja Lo
 ka\, 4220\, Slovenia
X-APPLE-STRUCTURED-LOCATION;VALUE=URI;X-ADDRESS=Frankovo naselje 51\, Škof
 ja Loka\, Škofja Loka\, 4220\, Slovenia;X-APPLE-RADIUS=100;X-TITLE=OŠ Cv
 etko Golar:geo:0,0
END:VEVENT
END:VCALENDAR