BEGIN:VCALENDAR
VERSION:2.0
PRODID:-//wp-events-plugin.com//7.2.3.1//EN
BEGIN:VEVENT
UID:40@zsport-skloka.si
DTSTART;TZID=Europe/Ljubljana:20250205T200000
DTEND;TZID=Europe/Ljubljana:20250205T210000
DTSTAMP:20250130T083840Z
URL:https://www.zsport-skloka.si/dogodki/predavanje-lare-poljsak-o-profesi
 onalnem-tekmovalnem-jadranju-in-trajnostnem-razvoju-v-jadranju/
SUMMARY:Predavanje Lare Poljšak o profesionalnem tekmovalnem jadranju in t
 rajnostnem razvoju v jadranju
DESCRIPTION:Vabljeni na predavanje mlade članice Jadralnega kluba JK Loka 
 Timing\, Lare Poljšak\, ki nam bo predstavila profesionalno tekmovalno ja
 dranje in z vami delila svojo jadralsko pot od prvih korakov na družinski
  jadrnici do tekmovanj z najpomembnejšimi imeni v svetu jadranja. Opisala
  nam bo vse kar tekmovalno poklicno jadranje zahteva od jadralca in se pos
 vetila tudi temi trajnostnega razvoja v jadranju.
ATTACH;FMTTYPE=image/jpeg:https://www.zsport-skloka.si/wp-content/uploads/
 2025/01/th.jpg
CATEGORIES:splošno
LOCATION:Gostilna Pri Godču v Svetem duhu\, Sveti Duh 21\, Škofja Loka\, 
 Sveti Duh\, Slovenia
X-APPLE-STRUCTURED-LOCATION;VALUE=URI;X-ADDRESS=Sveti Duh 21\, Škofja Loka
 \, Sveti Duh\, Slovenia;X-APPLE-RADIUS=100;X-TITLE=Gostilna Pri Godču v S
 vetem duhu:geo:0,0
END:VEVENT
BEGIN:VTIMEZONE
TZID:Europe/Ljubljana
X-LIC-LOCATION:Europe/Ljubljana
BEGIN:STANDARD
DTSTART:20241027T020000
TZOFFSETFROM:+0200
TZOFFSETTO:+0100
TZNAME:CET
END:STANDARD
END:VTIMEZONE
END:VCALENDAR