BEGIN:VCALENDAR
VERSION:2.0
PRODID:-//wp-events-plugin.com//7.2.3.1//EN
BEGIN:VEVENT
UID:77@zsport-skloka.si
DTSTART:20260620T074500Z
DTEND:20260620T224500Z
DTSTAMP:20260316T102753Z
URL:https://www.zsport-skloka.si/dogodki/tek-4-mostov-2/
SUMMARY:Tek 4 mostov
DESCRIPTION:Tek štirih mostov – Vse\, kar morate vedeti o Teku štirih m
 ostov v Škofji Loki
ATTACH;FMTTYPE=image/jpeg:https://www.zsport-skloka.si/wp-content/uploads/
 2026/03/slika-1-e1773656865240.jpg
CATEGORIES:tek
END:VEVENT
END:VCALENDAR